BEGIN:VCALENDAR
VERSION:2.0
PRODID:-//Basale Stimulation - ECPv6.15.20//NONSGML v1.0//EN
CALSCALE:GREGORIAN
METHOD:PUBLISH
X-ORIGINAL-URL:https://basale-stimulation.de
X-WR-CALDESC:Veranstaltungen für Basale Stimulation
REFRESH-INTERVAL;VALUE=DURATION:PT1H
X-Robots-Tag:noindex
X-PUBLISHED-TTL:PT1H
BEGIN:VTIMEZONE
TZID:Europe/Berlin
BEGIN:DAYLIGHT
TZOFFSETFROM:+0100
TZOFFSETTO:+0200
TZNAME:CEST
DTSTART:20240331T010000
END:DAYLIGHT
BEGIN:STANDARD
TZOFFSETFROM:+0200
TZOFFSETTO:+0100
TZNAME:CET
DTSTART:20241027T010000
END:STANDARD
BEGIN:DAYLIGHT
TZOFFSETFROM:+0100
TZOFFSETTO:+0200
TZNAME:CEST
DTSTART:20250330T010000
END:DAYLIGHT
BEGIN:STANDARD
TZOFFSETFROM:+0200
TZOFFSETTO:+0100
TZNAME:CET
DTSTART:20251026T010000
END:STANDARD
BEGIN:DAYLIGHT
TZOFFSETFROM:+0100
TZOFFSETTO:+0200
TZNAME:CEST
DTSTART:20260329T010000
END:DAYLIGHT
BEGIN:STANDARD
TZOFFSETFROM:+0200
TZOFFSETTO:+0100
TZNAME:CET
DTSTART:20261025T010000
END:STANDARD
END:VTIMEZONE
BEGIN:VEVENT
DTSTART;TZID=Europe/Berlin:20250909T090000
DTEND;TZID=Europe/Berlin:20250909T160000
DTSTAMP:20260420T165324
CREATED:20250802T090246Z
LAST-MODIFIED:20250802T090658Z
UID:15947-1757408400-1757433600@basale-stimulation.de
SUMMARY:Basale Stimulation nach Prof. Dr. Fröhlich® in der Palliativpflege
DESCRIPTION:Basale Lebensbegleitung\, ein Konzept zur Förderung der Eigenaktivität\, Fähigkeit zur Wahrnehmung und sozialen Interaktion.\nWas\, wenn die Sinne aber langsam schwinden? Mit bestehender Erkrankung und am Ende des Lebens verändern sich unsere Wahrnehmung und die Bedürfnisse Betroffener. \nWenn „Worte fehlen“\, gewinnt die Sprache einer bewussten Berührung oder eines olfaktorischen Angebotes\, als Möglichkeit der nonverbalen Kommunikation und zur körpereigenen Wahrnehmung\, an Bedeutung. Möglichkeiten einer wertschätzenden Begleitung\, biographieorientiert und auf den Moment abgestimmt schaffen Begegnung\, Wohlbefinden und erhalten die Würde des Menschen.\nBasale Stimulationsangebote können mithelfen die Lebenswelt des Menschen zu gestalten und diese so selbstbestimmt und orientiert wie nur möglich erlebbar zu machen. \nInhalte des Fortbildungstages:\n• Basale Stimulation als Konzept erleben\n• Wahrnehmung/Wahrnehmungsveränderung\n• Biographiearbeit\n• Berührung als Kommunikation\n• Auswahl an Wahrnehmungsangeboten\, z.B.\n• somatische Stimulation: beruhigende Körperpflege / Ausstreichung\, ASE\, Einreibung\n• Olfaktorische Stimulation … \nDie Inhalte werden vorrangig über Eigenerfahrung durch Übungen vermittelt.\nKursleitung	Elke Heilmann-Wagner\nKursleitung Basale Stimulation nach Prof. Dr. Fröhlich®\, Bobenheim am Berg \nZielgruppe	Mitarbeitende aus dem Bereich Pflege\, Betreuung\,Therapie und Interessierte \nRbP-Punkte	8 Fortbildungspunkte \nPlanung	Iris Sebastian\nOrganisation	Vera Kissel 06232 22-1223 oder: fortbildung@diakonissen.de
URL:https://basale-stimulation.de/event/basale-stimulation-nach-prof-dr-froehlich-in-der-palliativpflege/
LOCATION:Diakonissen Bildungszentrum Speyer\, Hilgardstraße 26\, Speyer\, 67346\, Deutschland
CATEGORIES:Themenkurs
ATTACH;FMTTYPE=image/jpeg:https://basale-stimulation.de/wp-content/uploads/2025/08/IMG_9176-1-scaled.jpg
ORGANIZER;CN="Diakonissen Bildungszentrum Speyer":MAILTO:fortbildung@diakonissen.de
END:VEVENT
END:VCALENDAR