BEGIN:VCALENDAR
VERSION:2.0
PRODID:-//Basale Stimulation - ECPv6.15.20//NONSGML v1.0//EN
CALSCALE:GREGORIAN
METHOD:PUBLISH
X-ORIGINAL-URL:https://basale-stimulation.de
X-WR-CALDESC:Veranstaltungen für Basale Stimulation
REFRESH-INTERVAL;VALUE=DURATION:PT1H
X-Robots-Tag:noindex
X-PUBLISHED-TTL:PT1H
BEGIN:VTIMEZONE
TZID:Europe/Berlin
BEGIN:DAYLIGHT
TZOFFSETFROM:+0100
TZOFFSETTO:+0200
TZNAME:CEST
DTSTART:20240331T010000
END:DAYLIGHT
BEGIN:STANDARD
TZOFFSETFROM:+0200
TZOFFSETTO:+0100
TZNAME:CET
DTSTART:20241027T010000
END:STANDARD
BEGIN:DAYLIGHT
TZOFFSETFROM:+0100
TZOFFSETTO:+0200
TZNAME:CEST
DTSTART:20250330T010000
END:DAYLIGHT
BEGIN:STANDARD
TZOFFSETFROM:+0200
TZOFFSETTO:+0100
TZNAME:CET
DTSTART:20251026T010000
END:STANDARD
BEGIN:DAYLIGHT
TZOFFSETFROM:+0100
TZOFFSETTO:+0200
TZNAME:CEST
DTSTART:20260329T010000
END:DAYLIGHT
BEGIN:STANDARD
TZOFFSETFROM:+0200
TZOFFSETTO:+0100
TZNAME:CET
DTSTART:20261025T010000
END:STANDARD
END:VTIMEZONE
BEGIN:VEVENT
DTSTART;TZID=Europe/Berlin:20251117T083000
DTEND;TZID=Europe/Berlin:20251117T160000
DTSTAMP:20260420T103849
CREATED:20250802T084949Z
LAST-MODIFIED:20250802T084949Z
UID:15940-1763368200-1763395200@basale-stimulation.de
SUMMARY:BASALE STIMULATION NACH PROF. DR. FRÖHLICH® BEI MENSCHEN MIT DEMENZ| 2575-2
DESCRIPTION:Basale Stimulation nach Prof. Dr. Fröhlich® bei Mensch mit Demenz\nBasale Lebensbegleitung\, ein Konzept zur Förderung der Eigenaktivität\, Fähigkeit zur Wahrnehmung und sozialen Interaktion. Was\, wenn die Sinne aber langsam schwinden? Mit bestehender Erkrankung und am Ende des Lebens verändern sich unsere Wahrnehmung und die Bedürfnisse Betroffener. Wenn „Worte fehlen“\, gewinnt die Sprache einer bewussten Berührung oder eines olfaktorischen Angebotes\, als Möglichkeit der nonverbalen Kommunikation und zur körpereigenen Wahrnehmung\, an Bedeutung. Möglichkeiten einer wertschätzenden Begleitung\, biographieorientiert und auf den Moment abgestimmt schaffen Begegnung\, Wohlbefinden und erhalten die Würde des Menschen. Basale Stimulationsangebote können mithelfen die Lebenswelt des Menschen mit Demenz zu gestalten und diese so selbstbestimmt und orientiert wie nur möglich erlebbar zu machen. \nInhalte des Thementages:\n• Basale Stimulation als Konzept erleben\n• Wahrnehmung/Wahrnehmungsveränderung\n• Biographiearbeit\n• Berührung als Kommunikation\n• Auswahl an Wahrnehmungsangeboten\, z.B. somatische Stimulation: beruhigende Körperpflege /  Ausstreichung\, Einreibung\, Olfaktorische Stimulation\, orale Stimulation\, Vibratorische Angebote \nFort- und Weiterbildung für Angehörige der: \nPflegefachkräfte aller Versorgungsbereiche\nPflegehilfskräfte aller Versorgungsbereiche\nTherapeutische Mitarbeiterinnen des Gesundheitsssektors \nFlyer: https://www.demenz-saarlouis.de/fileadmin/user_upload/demenzverein_saarlouis/Dateien/2025/2575-2_Basale_Stimulation.pdf
URL:https://basale-stimulation.de/event/basale-stimulation-nach-prof-dr-froehlich-bei-menschen-mit-demenz-2575-2/
LOCATION:Demenz-Verein Saalouis e.V.\, Walter-Bloch-Str. 6 (1. Etage)\, Saarlouis\, Saarland\, 66740\, Germany
CATEGORIES:Themenkurs
ATTACH;FMTTYPE=image/jpeg:https://basale-stimulation.de/wp-content/uploads/2025/08/IMG_9176-scaled.jpg
ORGANIZER;CN="Demenz-Verein Saarlouis e.V.     Fort- u. Weiterbildung%2C Walter-Bloch-Str. 6%2C 66740 Saarlouis":MAILTO:weiterbildung@demenz-saarlouis.de
END:VEVENT
END:VCALENDAR